BEGIN:VCALENDAR
VERSION:2.0
PRODID:-//Blockchain Intelligence - ECPv6.15.20//NONSGML v1.0//EN
CALSCALE:GREGORIAN
METHOD:PUBLISH
X-ORIGINAL-URL:https://blockchainintelligence.es
X-WR-CALDESC:Eventos para Blockchain Intelligence
REFRESH-INTERVAL;VALUE=DURATION:PT1H
X-Robots-Tag:noindex
X-PUBLISHED-TTL:PT1H
BEGIN:VTIMEZONE
TZID:America/Guatemala
BEGIN:STANDARD
TZOFFSETFROM:-0600
TZOFFSETTO:-0600
TZNAME:CST
DTSTART:20250101T000000
END:STANDARD
END:VTIMEZONE
BEGIN:VEVENT
DTSTART;TZID=America/Guatemala:20260423T100000
DTEND;TZID=America/Guatemala:20260423T120000
DTSTAMP:20260422T052112
CREATED:20260415T081940Z
LAST-MODIFIED:20260415T081940Z
UID:39098-1776938400-1776945600@blockchainintelligence.es
SUMMARY:Blockchain y la Transparencia Transaccional: Oportunidades y Desafíos para el Sector Bancario y Financiero
DESCRIPTION:La tecnología blockchain se ha consolidado como una infraestructura clave para mejorar la transparencia\, la trazabilidad y la seguridad en las transacciones financieras. En este contexto\, el foro “Blockchain y la Transparencia Transaccional: Oportunidades y Desafíos para el Sector Bancario y Financiero”\, organizado por la Escuela Bancaria de Guatemala\, analizará su impacto en la transformación del sector bancario y financiero. \nDetalles del evento\n📅 23 de abril\n🕙 10:00 a 12:00 horas (Guatemala)\n💻 Formato virtual \nA lo largo de la sesión\, expertos internacionales y regionales abordarán tendencias\, casos de uso y retos regulatorios asociados a la adopción de blockchain\, así como su papel en la modernización del sistema financiero\, especialmente en Guatemala y Centroamérica. \nPonentes \n– Almudena de la Mata\, CEO de Blockchain Intelligence\, con más de 25 años de experiencia en tecnología\, gobernanza y finanzas.\n– Francis Sanchinelli\, presidente de la Asociación Blockchain de Guatemala y referente en innovación tecnológica en la región.\n– Dario Ramirez\, especialista en tecnologías emergentes y sistemas financieros digitales. \nModera \n– Patricia Ramirez\, experta en innovación y transformación digital en el sector financiero. \nEl encuentro está dirigido a profesionales del ámbito financiero interesados en comprender el potencial de blockchain para reforzar la transparencia\, optimizar procesos y facilitar la innovación en los servicios financieros. \nPara preinscribirse en el evento\, complete el formulario a continuación. Posteriormente\, recibirá un enlace para finalizar su inscripción y completar el pago (por favor revise también su carpeta de spam).  \n\n\n  \n\n\n\n Nombre (obligatorio)\n \n \n Empresa (obligatorio)\n \n \n Tu número de teléfono (obligatorio)\n\n \n Tu país (obligatorio)\n\n \n Tu correo electrónico (obligatorio)\n \n \nAcepto la política de privacidad (obligatorio)\n   ¿Quieres que te informemos de nuestras actividades?
URL:https://blockchainintelligence.es/event/blockchain-y-la-transparencia-transaccional-oportunidades-y-desafios-para-el-sector-bancario-y-financiero/
CATEGORIES:Eventos
ATTACH;FMTTYPE=image/jpeg:https://blockchainintelligence.es/wp-content/uploads/2026/04/Blockchain-y-la-Transparencia-Transaccional.jpeg
END:VEVENT
END:VCALENDAR