BEGIN:VCALENDAR
VERSION:2.0
PRODID:-//Blockchain Intelligence - ECPv6.15.20//NONSGML v1.0//EN
CALSCALE:GREGORIAN
METHOD:PUBLISH
X-ORIGINAL-URL:https://blockchainintelligence.es
X-WR-CALDESC:Eventos para Blockchain Intelligence
REFRESH-INTERVAL;VALUE=DURATION:PT1H
X-Robots-Tag:noindex
X-PUBLISHED-TTL:PT1H
BEGIN:VTIMEZONE
TZID:Europe/Madrid
BEGIN:DAYLIGHT
TZOFFSETFROM:+0100
TZOFFSETTO:+0200
TZNAME:CEST
DTSTART:20250330T010000
END:DAYLIGHT
BEGIN:STANDARD
TZOFFSETFROM:+0200
TZOFFSETTO:+0100
TZNAME:CET
DTSTART:20251026T010000
END:STANDARD
BEGIN:DAYLIGHT
TZOFFSETFROM:+0100
TZOFFSETTO:+0200
TZNAME:CEST
DTSTART:20260329T010000
END:DAYLIGHT
BEGIN:STANDARD
TZOFFSETFROM:+0200
TZOFFSETTO:+0100
TZNAME:CET
DTSTART:20261025T010000
END:STANDARD
BEGIN:DAYLIGHT
TZOFFSETFROM:+0100
TZOFFSETTO:+0200
TZNAME:CEST
DTSTART:20270328T010000
END:DAYLIGHT
BEGIN:STANDARD
TZOFFSETFROM:+0200
TZOFFSETTO:+0100
TZNAME:CET
DTSTART:20271031T010000
END:STANDARD
END:VTIMEZONE
BEGIN:VEVENT
DTSTART;VALUE=DATE:20260219
DTEND;VALUE=DATE:20260220
DTSTAMP:20260422T090821
CREATED:20260206T145009Z
LAST-MODIFIED:20260206T145009Z
UID:38984-1771459200-1771545599@blockchainintelligence.es
SUMMARY:Blockchain\, Tokenisation and Digital Assets for SMEs and Sustainability
DESCRIPTION:Blockchain Intelligence will take part in the meeting “Blockchain\, Tokenisation and Digital Assets for SMEs and Sustainability”\, organised by WCLN and the European Investment Bank\, with Dr. Almudena de la Mata\, CEO of BlockchAIn Intelligence. Her intervention will set the strategic context\, examining how blockchain and tokenisation can align SME financing with sustainability objectives by linking capital to trusted data and verifiable outcomes through new business and public policy models. \nThe presentation will address practical use cases with real impact for SMEs\, including innovative financing structures (equity\, debt and tokenised assets)\, sustainability and verifiable reporting\, applications in energy and the circular economy\, and tokenised public policy instruments such as incentives linked to verified impact\, including DivAirCity. The session will also cover implementation from use case to pilot\, alongside key considerations around risk\, governance and institutional frameworks\, concluding with perspectives\, conclusions and next steps for scalable and credible sustainability solutions.
URL:https://blockchainintelligence.es/event/blockchain-tokenisation-and-digital-assets-for-smes-and-sustainability/
CATEGORIES:Eventos
ATTACH;FMTTYPE=image/png:https://blockchainintelligence.es/wp-content/uploads/2026/02/BI-WCLN-EIB.png
END:VEVENT
END:VCALENDAR