BEGIN:VCALENDAR
VERSION:2.0
PRODID:-//Blockchain Intelligence - ECPv6.15.20//NONSGML v1.0//EN
CALSCALE:GREGORIAN
METHOD:PUBLISH
X-ORIGINAL-URL:https://blockchainintelligence.es
X-WR-CALDESC:Eventos para Blockchain Intelligence
REFRESH-INTERVAL;VALUE=DURATION:PT1H
X-Robots-Tag:noindex
X-PUBLISHED-TTL:PT1H
BEGIN:VTIMEZONE
TZID:Europe/Madrid
BEGIN:DAYLIGHT
TZOFFSETFROM:+0100
TZOFFSETTO:+0200
TZNAME:CEST
DTSTART:20240331T010000
END:DAYLIGHT
BEGIN:STANDARD
TZOFFSETFROM:+0200
TZOFFSETTO:+0100
TZNAME:CET
DTSTART:20241027T010000
END:STANDARD
BEGIN:DAYLIGHT
TZOFFSETFROM:+0100
TZOFFSETTO:+0200
TZNAME:CEST
DTSTART:20250330T010000
END:DAYLIGHT
BEGIN:STANDARD
TZOFFSETFROM:+0200
TZOFFSETTO:+0100
TZNAME:CET
DTSTART:20251026T010000
END:STANDARD
BEGIN:DAYLIGHT
TZOFFSETFROM:+0100
TZOFFSETTO:+0200
TZNAME:CEST
DTSTART:20260329T010000
END:DAYLIGHT
BEGIN:STANDARD
TZOFFSETFROM:+0200
TZOFFSETTO:+0100
TZNAME:CET
DTSTART:20261025T010000
END:STANDARD
END:VTIMEZONE
BEGIN:VEVENT
DTSTART;TZID=Europe/Madrid:20251003T120000
DTEND;TZID=Europe/Madrid:20251003T130000
DTSTAMP:20260422T160704
CREATED:20250929T111510Z
LAST-MODIFIED:20250929T111510Z
UID:38295-1759492800-1759496400@blockchainintelligence.es
SUMMARY:Blockchain para la competitividad empresarial en España
DESCRIPTION:Nuestra CEO\, Almudena de la Mata\, participará como ponente en el webinar exclusivo Blockchain para la competitividad empresarial en España organizado por ISBE (Infraestructura de Servicios Blockchain de España) el próximo 3 de octubre a las 12:00. La sesión se centrará en cómo la tecnología blockchain puede convertirse en un motor de competitividad para las empresas\, aportando eficiencia\, transparencia\, financiación y confianza en sus operaciones. \nDurante el webinar se presentarán casos reales y aplicaciones prácticas de blockchain que ya están ayudando a compañías de sectores tan diversos como seguros\, finanzas\, automoción\, producción industrial y construcción a abrir nuevas oportunidades de innovación y crecimiento. La sesión se realizará en formato videoconferencia a través de Teams\, ofreciendo a los asistentes un espacio para conocer cómo esta tecnología puede impulsar la competitividad empresarial en España. \nRegístrate aquí.
URL:https://blockchainintelligence.es/event/blockchain-para-la-competitividad-empresarial-en-espana/
LOCATION:Online
CATEGORIES:Eventos
ATTACH;FMTTYPE=image/jpeg:https://blockchainintelligence.es/wp-content/uploads/2025/09/ISBE-webinar.jpg
END:VEVENT
BEGIN:VEVENT
DTSTART;TZID=Europe/Madrid:20251013T183000
DTEND;TZID=Europe/Madrid:20251013T200000
DTSTAMP:20260422T160704
CREATED:20251029T165932Z
LAST-MODIFIED:20251029T165932Z
UID:38481-1760380200-1760385600@blockchainintelligence.es
SUMMARY:ProfeSHEonal Certification - Episode 1: Thriving in the Digital Age
DESCRIPTION:How can young professionals prepare for success in a world driven by digital transformation? What essential skills are needed to thrive in the workplaces of the future? \nThese questions will take center stage at ProfeSHEonal Certification – Episode 1: “Thriving in the Digital Age: Essential Skills for the Digital Workplace”\, the opening session of the third edition of the ProfeSHEonal Certification\, organized by the IE Women in Business Club – Undergraduate Madrid Chapter. \nThe event will feature inspiring women leaders from top international companies who will share their perspectives on leadership\, adaptability\, and professional growth in an increasingly technology-driven world. Among the speakers will be Marta García del Valle (Revolut)\, Elena Domínguez Blanco (Google)\, and Almudena de la Mata\, CEO of BlockchAIn Intelligence and board member of AI Cluster and Alastria\, with María de la Paz moderating the conversation. \nDesigned for IE undergraduate students\, this session will offer practical insights and real-world experiences to help participants build confidence\, resilience\, and a digital-first mindset—key elements for any future career. Attendance counts toward the ProfeSHEonal Certification\, awarded to students who attend at least three of the four sessions in the series. \nDon’t miss this opportunity to connect\, learn\, and get inspired by accomplished professionals leading digital transformation across industries.
URL:https://blockchainintelligence.es/event/profesheonal-certification-episode-1-thriving-in-the-digital-age/
ATTACH;FMTTYPE=image/jpeg:https://blockchainintelligence.es/wp-content/uploads/2025/10/ProfeSHEonal-Certification.jpg
END:VEVENT
BEGIN:VEVENT
DTSTART;TZID=Europe/Madrid:20251021T173000
DTEND;TZID=Europe/Madrid:20251021T194500
DTSTAMP:20260422T160704
CREATED:20251029T124909Z
LAST-MODIFIED:20251029T140834Z
UID:38436-1761067800-1761075900@blockchainintelligence.es
SUMMARY:Blockchain y Sostenibilidad: un debate imprescindible
DESCRIPTION:El próximo 21 de octubre\, el Madrid Innovation Lab acogerá la jornada “Blockchain y Sostenibilidad: un debate imprescindible”\, organizada por los Clústeres de Blockchain y de Transformación Digital de la Comunidad de Madrid\, con el apoyo de Alastria Blockchain Ecosystem\, en el marco de la Madrid Tech Week. El evento abordará cómo la tecnología blockchain puede impulsar una economía más sostenible\, responsable y transparente. \nEntre los participantes destacan nuestra CEO Almudena de la Mata\, Marcos Carrera (Fujitsu) y Cruz Guijarro Herrero (UniPimus). La jornada mostrará cómo blockchain puede integrar criterios ESG\, participación ciudadana y trazabilidad para generar impacto real en proyectos urbanos y sociales. \nRegistro
URL:https://blockchainintelligence.es/event/blockchain-y-sostenibilidad-un-debate-imprescindible/
LOCATION:MIL Madrid\, C/ Bravo de Murillo\, Madrid\, 28015\, Spain
CATEGORIES:Eventos
ATTACH;FMTTYPE=image/jpeg:https://blockchainintelligence.es/wp-content/uploads/2025/10/Blockchain-y-Sostenibilidad-un-debate-imprescindible.jpg
END:VEVENT
BEGIN:VEVENT
DTSTART;TZID=Europe/Madrid:20251029T130000
DTEND;TZID=Europe/Madrid:20251029T140000
DTSTAMP:20260422T160704
CREATED:20251029T164818Z
LAST-MODIFIED:20251029T164818Z
UID:38479-1761742800-1761746400@blockchainintelligence.es
SUMMARY:Administraciones públicas: eficiencia\, trazabilidad y transparencia
DESCRIPTION:¿Puede blockchain hacer que la gestión pública sea más eficiente\, transparente y confiable? Este será el eje central del nuevo webinar Administraciones públicas: eficiencia\, trazabilidad y transparencia con Almudena de la Mata\, donde se analizarán los retos y oportunidades que ofrece esta tecnología para transformar el sector público. \nLa sesión abordará cómo blockchain puede convertirse en una herramienta clave para fortalecer la confianza entre administraciones\, empresas y ciudadanía\, optimizando procesos y reduciendo cargas administrativas. \nA lo largo del encuentro\, se presentarán casos prácticos y aplicaciones reales en áreas como: \n– Identificación digital y gestión de credenciales seguras.\n– Trazabilidad en subvenciones y contratos públicos.\n– Automatización y certificación de datos y documentos.\n– Procesos inteligentes para una administración más ágil.\n– Ecosistemas urbanos conectados\, desde energía hasta movilidad. \nUna oportunidad para descubrir cómo ISBE\, la Infraestructura de Servicios Blockchain de España\, puede actuar como la capa de confianza que impulse la innovación y eficiencia en los servicios públicos.
URL:https://blockchainintelligence.es/event/administraciones-publicas-eficiencia-trazabilidad-y-transparencia/
CATEGORIES:Eventos
ATTACH;FMTTYPE=image/png:https://blockchainintelligence.es/wp-content/uploads/2025/10/Administraciones-publicas.png
END:VEVENT
END:VCALENDAR