BEGIN:VCALENDAR
VERSION:2.0
PRODID:-//Blockchain Intelligence - ECPv6.15.20//NONSGML v1.0//EN
CALSCALE:GREGORIAN
METHOD:PUBLISH
X-ORIGINAL-URL:https://blockchainintelligence.es
X-WR-CALDESC:Eventos para Blockchain Intelligence
REFRESH-INTERVAL;VALUE=DURATION:PT1H
X-Robots-Tag:noindex
X-PUBLISHED-TTL:PT1H
BEGIN:VTIMEZONE
TZID:Europe/Madrid
BEGIN:DAYLIGHT
TZOFFSETFROM:+0100
TZOFFSETTO:+0200
TZNAME:CEST
DTSTART:20240331T010000
END:DAYLIGHT
BEGIN:STANDARD
TZOFFSETFROM:+0200
TZOFFSETTO:+0100
TZNAME:CET
DTSTART:20241027T010000
END:STANDARD
BEGIN:DAYLIGHT
TZOFFSETFROM:+0100
TZOFFSETTO:+0200
TZNAME:CEST
DTSTART:20250330T010000
END:DAYLIGHT
BEGIN:STANDARD
TZOFFSETFROM:+0200
TZOFFSETTO:+0100
TZNAME:CET
DTSTART:20251026T010000
END:STANDARD
BEGIN:DAYLIGHT
TZOFFSETFROM:+0100
TZOFFSETTO:+0200
TZNAME:CEST
DTSTART:20260329T010000
END:DAYLIGHT
BEGIN:STANDARD
TZOFFSETFROM:+0200
TZOFFSETTO:+0100
TZNAME:CET
DTSTART:20261025T010000
END:STANDARD
END:VTIMEZONE
BEGIN:VEVENT
DTSTART;TZID=Europe/Madrid:20250408T090000
DTEND;TZID=Europe/Madrid:20250408T191500
DTSTAMP:20260423T020749
CREATED:20250404T064349Z
LAST-MODIFIED:20250404T064349Z
UID:37984-1744102800-1744139700@blockchainintelligence.es
SUMMARY:Jornada Mujeres y Competitividad
DESCRIPTION:El próximo 8 de abril de 2025\, Almudena de la Mata\, CEO de Blockchain Intelligence\, participará en la jornada “Mujeres y Competitividad: impulsando el cambio y la igualdad”\, que se celebrará en Ágora Wayra\, Edificio Telefónica (Madrid). \nEl evento abordará el papel de las mujeres como motor de crecimiento económico y de igualdad en la era digital. Almudena intervendrá en la sesión “Emprendimiento\, financiación y éxito empresarial” junto a: \nPaloma Castellano\, Directora General de Wayra España\nPilar Troncoso\, CRO de QCentroid\nNatalia Martos Díaz\, CEO y fundadora de Legal Army\nBlanca Ochoa\, Presidenta de WA4STEAM\nOrganizado por la Fundación Compromiso y Transparencia\, el encuentro busca visibilizar la contribución femenina en el ámbito del emprendimiento y la innovación. \nAgenda completa | Inscripción
URL:https://blockchainintelligence.es/event/jornada-mujeres-y-competitividad/
LOCATION:Madrid\, Madrid\, Spain
CATEGORIES:Eventos
ATTACH;FMTTYPE=image/jpeg:https://blockchainintelligence.es/wp-content/uploads/2025/04/Mujeres-y-Competitividad.jpg
END:VEVENT
END:VCALENDAR