BEGIN:VCALENDAR
VERSION:2.0
PRODID:-//Blockchain Intelligence - ECPv6.15.20//NONSGML v1.0//EN
CALSCALE:GREGORIAN
METHOD:PUBLISH
X-ORIGINAL-URL:https://blockchainintelligence.es
X-WR-CALDESC:Eventos para Blockchain Intelligence
REFRESH-INTERVAL;VALUE=DURATION:PT1H
X-Robots-Tag:noindex
X-PUBLISHED-TTL:PT1H
BEGIN:VTIMEZONE
TZID:Europe/Madrid
BEGIN:DAYLIGHT
TZOFFSETFROM:+0100
TZOFFSETTO:+0200
TZNAME:CEST
DTSTART:20230326T010000
END:DAYLIGHT
BEGIN:STANDARD
TZOFFSETFROM:+0200
TZOFFSETTO:+0100
TZNAME:CET
DTSTART:20231029T010000
END:STANDARD
BEGIN:DAYLIGHT
TZOFFSETFROM:+0100
TZOFFSETTO:+0200
TZNAME:CEST
DTSTART:20240331T010000
END:DAYLIGHT
BEGIN:STANDARD
TZOFFSETFROM:+0200
TZOFFSETTO:+0100
TZNAME:CET
DTSTART:20241027T010000
END:STANDARD
BEGIN:DAYLIGHT
TZOFFSETFROM:+0100
TZOFFSETTO:+0200
TZNAME:CEST
DTSTART:20250330T010000
END:DAYLIGHT
BEGIN:STANDARD
TZOFFSETFROM:+0200
TZOFFSETTO:+0100
TZNAME:CET
DTSTART:20251026T010000
END:STANDARD
END:VTIMEZONE
BEGIN:VEVENT
DTSTART;TZID=Europe/Madrid:20241204T093000
DTEND;TZID=Europe/Madrid:20241204T183000
DTSTAMP:20260425T133315
CREATED:20241120T160125Z
LAST-MODIFIED:20241120T160843Z
UID:37576-1733304600-1733337000@blockchainintelligence.es
SUMMARY:I Congreso Buen Gobierno Corporativo
DESCRIPTION:Almudena de la Mata\, CEO de Blockchain Intelligence\, participará en el panel «La inteligencia artificial en la mesa del consejo de administración» en el marco del I Congreso Buen Gobierno Corporativo\, que se celebrará el 4 de diciembre en Madrid.  \nEn esta sesión\, junto a Rita Estevez\, CEO y Consejera Independiente\, y Armando Martínez Polo\, Socio en PwC España\, se discutirá cómo la inteligencia artificial está transformando la toma de decisiones en los consejos de administración y los retos éticos y estratégicos que surgen en este contexto. Este congreso reunirá a expertos internacionales para abordar los desafíos actuales en torno a la IA generativa\, la sostenibilidad\, la geopolítica y la polarización social\, ofreciendo una visión integral sobre el futuro del buen gobierno corporativo. \nLa agenda está aquí. Inscripciones estan aquí.
URL:https://blockchainintelligence.es/event/i-congreso-buen-gobierno-corporativo/
LOCATION:Madrid\, Madrid\, Spain
CATEGORIES:Eventos
ATTACH;FMTTYPE=image/jpeg:https://blockchainintelligence.es/wp-content/uploads/2024/11/Congreso-Buen-Gobierno-Corporativo.jpg
END:VEVENT
END:VCALENDAR