BEGIN:VCALENDAR
VERSION:2.0
PRODID:-//Blockchain Intelligence - ECPv6.15.20//NONSGML v1.0//EN
CALSCALE:GREGORIAN
METHOD:PUBLISH
X-ORIGINAL-URL:https://blockchainintelligence.es
X-WR-CALDESC:Eventos para Blockchain Intelligence
REFRESH-INTERVAL;VALUE=DURATION:PT1H
X-Robots-Tag:noindex
X-PUBLISHED-TTL:PT1H
BEGIN:VTIMEZONE
TZID:Europe/Madrid
BEGIN:DAYLIGHT
TZOFFSETFROM:+0100
TZOFFSETTO:+0200
TZNAME:CEST
DTSTART:20230326T010000
END:DAYLIGHT
BEGIN:STANDARD
TZOFFSETFROM:+0200
TZOFFSETTO:+0100
TZNAME:CET
DTSTART:20231029T010000
END:STANDARD
BEGIN:DAYLIGHT
TZOFFSETFROM:+0100
TZOFFSETTO:+0200
TZNAME:CEST
DTSTART:20240331T010000
END:DAYLIGHT
BEGIN:STANDARD
TZOFFSETFROM:+0200
TZOFFSETTO:+0100
TZNAME:CET
DTSTART:20241027T010000
END:STANDARD
BEGIN:DAYLIGHT
TZOFFSETFROM:+0100
TZOFFSETTO:+0200
TZNAME:CEST
DTSTART:20250330T010000
END:DAYLIGHT
BEGIN:STANDARD
TZOFFSETFROM:+0200
TZOFFSETTO:+0100
TZNAME:CET
DTSTART:20251026T010000
END:STANDARD
END:VTIMEZONE
BEGIN:VEVENT
DTSTART;TZID=Europe/Madrid:20240508T111500
DTEND;TZID=Europe/Madrid:20240508T140000
DTSTAMP:20260425T215109
CREATED:20240507T113050Z
LAST-MODIFIED:20240507T113323Z
UID:37166-1715166900-1715176800@blockchainintelligence.es
SUMMARY:EU Blockchain Observatory & Forum Conclusion Workshop
DESCRIPTION:Almudena de la Mata\, CEO of Blockchain Intelligence\, is set to participate in the upcoming EU Blockchain Observatory & Forum Conclusion Workshop at the DG CNECT premises on May 8. She will be sharing insights on the topic of «Tokenisation for public policy and citizens engagement: DivAirCity.» \nDe la Mata’s presentation will focus on DivAirCity\, a pioneering project leveraging tokenisation for public policy and citizen engagement. DivAirCity represents an innovative approach to urban air quality management\, utilizing blockchain technology to incentivize and reward individuals and businesses for reducing their environmental footprint. \nOther speakers are Pierre Marro from EC\, Tonia Damvakeraki from EUBOF\, Mariana de la Roche Wills from Validvent/INATBA\, and Daniel Szego from Blockchain Architect.
URL:https://blockchainintelligence.es/event/eu-blockchain-observatory-forum-conclusion-workshop/
CATEGORIES:Eventos
ATTACH;FMTTYPE=image/jpeg:https://blockchainintelligence.es/wp-content/uploads/2024/05/EU-Blockchain-Observatory-Forum-Conclusion-Workshop.jpeg
END:VEVENT
BEGIN:VEVENT
DTSTART;TZID=Europe/Madrid:20240522T090000
DTEND;TZID=Europe/Madrid:20240522T180000
DTSTAMP:20260425T215109
CREATED:20240411T143433Z
LAST-MODIFIED:20240411T143433Z
UID:37097-1716368400-1716400800@blockchainintelligence.es
SUMMARY:Blockchain Horizons: INATBA’s Academic and R&D Forum
DESCRIPTION:Blockchain Intelligence joins as co-organizer to the Blockchain Horizons: INATBA’s Academic and R&D Forum event\, which will take place on May 22nd at the Darmstadtium\, Darmstadt\, Germany. Our CEO Almudena de la Mata will participate as one of the keynote speakers.  \nINATBA\, as the main organizer\, promotes the global adoption of blockchain through collaboration between industry leaders\, regulators and academics. The forum will explore the potential of blockchain technology in various sectors\, discussing recent research and global adoption strategies. This event provides a platform to establish connections and collaborations between researchers\, companies and regulators in the blockchain industry. \nThe preliminary agenda is here.
URL:https://blockchainintelligence.es/event/blockchain-horizons-inatbas-academic-and-rd-forum/
LOCATION:Darmstadt\, Darmstadt\, Germany
CATEGORIES:Eventos
ATTACH;FMTTYPE=image/jpeg:https://blockchainintelligence.es/wp-content/uploads/2024/04/Blockchain_Horizons_Forum.jpeg
END:VEVENT
END:VCALENDAR